BEGIN:VCALENDAR
VERSION:2.0
PRODID:-//There is a Day for That!//EN
CALSCALE:GREGORIAN
METHOD:PUBLISH
X-WR-CALNAME:USA Holidays
X-WR-CALDESC:Important Dates in USA. Provided by http://www.thereisadayforthat.com
REFRESH-INTERVAL;VALUE=DURATION:PT48H
X-PUBLISHED-TTL:PT48H
X-MS-OLK-FORCEINSPECTOROPEN:TRUE
BEGIN:VEVENT
CLASS:PUBLIC
UID:2026-08-14US2588regcountry@www.thereisadayforthat.com
CREATED:20260422T121656Z
DESCRIPTION:Learn all about National Tattoo Removal Day on August 14th! Discover why this day is dedicated to helping people remove unwanted tattoos and find out how you can get involved.\n\nAugust 14\n\nInformation provided by www.thereisadayforthat.com
URL:http://www.thereisadayforthat.com/holidays/usa/national-tattoo-removal-day
DTSTART;VALUE=DATE:20260814
DTEND;VALUE=DATE:20260815
DTSTAMP:20260814T000000Z
LOCATION:USA
PRIORITY:5
SEQUENCE:0
SUMMARY;LANGUAGE=en-us:National Tattoo Removal Day
TRANSP:OPAQUE
X-MICROSOFT-CDO-BUSYSTATUS:BUSY
X-MICROSOFT-CDO-IMPORTANCE:1
X-MICROSOFT-DISALLOW-COUNTER:FALSE
X-MS-OLK-ALLOWEXTERNCHECK:TRUE
X-MS-OLK-AUTOFILLLOCATION:FALSE
X-MICROSOFT-CDO-ALLDAYEVENT:TRUE
X-MICROSOFT-MSNCALENDAR-ALLDAYEVENT:TRUE
X-MS-OLK-CONFTYPE:0
END:VEVENT
END:VCALENDAR
