BEGIN:VCALENDAR
VERSION:2.0
PRODID:-//There is a Day for That!//EN
CALSCALE:GREGORIAN
METHOD:PUBLISH
X-WR-CALNAME:United Nations Holidays
X-WR-CALDESC:Important Dates in United Nations. Provided by http://www.thereisadayforthat.com
REFRESH-INTERVAL;VALUE=DURATION:PT48H
X-PUBLISHED-TTL:PT48H
X-MS-OLK-FORCEINSPECTOROPEN:TRUE
BEGIN:VEVENT
CLASS:PUBLIC
UID:2026-10-17UN1269regnap@www.thereisadayforthat.com
CREATED:20260420T124557Z
DESCRIPTION:17 October presents an opportunity to acknowledge the effort and struggle of people living in poverty.\n\n\n\nInformation provided by www.thereisadayforthat.com
URL:http://www.thereisadayforthat.com/holidays/united-nations/international-day-for-the-eradication-of-poverty
DTSTART;VALUE=DATE:20261017
DTEND;VALUE=DATE:20261018
DTSTAMP:20261017T000000Z
LOCATION:United Nations
PRIORITY:5
SEQUENCE:0
SUMMARY;LANGUAGE=en-us:International Day for the Eradication of Poverty 
TRANSP:OPAQUE
X-MICROSOFT-CDO-BUSYSTATUS:BUSY
X-MICROSOFT-CDO-IMPORTANCE:1
X-MICROSOFT-DISALLOW-COUNTER:FALSE
X-MS-OLK-ALLOWEXTERNCHECK:TRUE
X-MS-OLK-AUTOFILLLOCATION:FALSE
X-MICROSOFT-CDO-ALLDAYEVENT:TRUE
X-MICROSOFT-MSNCALENDAR-ALLDAYEVENT:TRUE
X-MS-OLK-CONFTYPE:0
END:VEVENT
END:VCALENDAR
