BEGIN:VCALENDAR
VERSION:2.0
PRODID:-//There is a Day for That!//EN
CALSCALE:GREGORIAN
METHOD:PUBLISH
X-WR-CALNAME:United Kingdom Holidays
X-WR-CALDESC:Important Dates in United Kingdom. Provided by http://www.thereisadayforthat.com
REFRESH-INTERVAL;VALUE=DURATION:PT48H
X-PUBLISHED-TTL:PT48H
X-MS-OLK-FORCEINSPECTOROPEN:TRUE
BEGIN:VEVENT
CLASS:PUBLIC
UID:2026-11-22GB1888regcountry@www.thereisadayforthat.com
CREATED:20260425T170259Z
DESCRIPTION:A traditional date to make the Christmas Pudding on the Sunday before the start of Advent.\n\nSunday before Advent\n\nInformation provided by www.thereisadayforthat.com
URL:http://www.thereisadayforthat.com/holidays/united-kingdom/stir-up-sunday
DTSTART;VALUE=DATE:20261122
DTEND;VALUE=DATE:20261123
DTSTAMP:20261122T000000Z
LOCATION:United Kingdom
PRIORITY:5
SEQUENCE:0
SUMMARY;LANGUAGE=en-us:Stir-up Sunday
TRANSP:OPAQUE
X-MICROSOFT-CDO-BUSYSTATUS:BUSY
X-MICROSOFT-CDO-IMPORTANCE:1
X-MICROSOFT-DISALLOW-COUNTER:FALSE
X-MS-OLK-ALLOWEXTERNCHECK:TRUE
X-MS-OLK-AUTOFILLLOCATION:FALSE
X-MICROSOFT-CDO-ALLDAYEVENT:TRUE
X-MICROSOFT-MSNCALENDAR-ALLDAYEVENT:TRUE
X-MS-OLK-CONFTYPE:0
END:VEVENT
END:VCALENDAR
