BEGIN:VCALENDAR
VERSION:2.0
PRODID:-//There is a Day for That!//EN
CALSCALE:GREGORIAN
METHOD:PUBLISH
X-WR-CALNAME:New Zealand Holidays
X-WR-CALDESC:Important Dates in New Zealand. Provided by http://www.thereisadayforthat.com
REFRESH-INTERVAL;VALUE=DURATION:PT48H
X-PUBLISHED-TTL:PT48H
X-MS-OLK-FORCEINSPECTOROPEN:TRUE
BEGIN:VEVENT
CLASS:PUBLIC
UID:2026-05-01NZ442regcountry@www.thereisadayforthat.com
CREATED:20260421T90145Z
DESCRIPTION:Find out the dates, history and traditions of Sauvignon Blanc Day\n\nFirst Friday in May\n\nInformation provided by www.thereisadayforthat.com
URL:http://www.thereisadayforthat.com/holidays/new-zealand/sauvignon-blanc-day
DTSTART;VALUE=DATE:20260501
DTEND;VALUE=DATE:20260502
DTSTAMP:20260501T000000Z
LOCATION:New Zealand
PRIORITY:5
SEQUENCE:0
SUMMARY;LANGUAGE=en-us:Sauvignon Blanc Day
TRANSP:OPAQUE
X-MICROSOFT-CDO-BUSYSTATUS:BUSY
X-MICROSOFT-CDO-IMPORTANCE:1
X-MICROSOFT-DISALLOW-COUNTER:FALSE
X-MS-OLK-ALLOWEXTERNCHECK:TRUE
X-MS-OLK-AUTOFILLLOCATION:FALSE
X-MICROSOFT-CDO-ALLDAYEVENT:TRUE
X-MICROSOFT-MSNCALENDAR-ALLDAYEVENT:TRUE
X-MS-OLK-CONFTYPE:0
END:VEVENT
END:VCALENDAR
