BEGIN:VCALENDAR
VERSION:2.0
PRODID:-//There is a Day for That!//EN
CALSCALE:GREGORIAN
METHOD:PUBLISH
X-WR-CALNAME:Hungary Holidays
X-WR-CALDESC:Important Dates in Hungary. Provided by http://www.thereisadayforthat.com
REFRESH-INTERVAL;VALUE=DURATION:PT48H
X-PUBLISHED-TTL:PT48H
X-MS-OLK-FORCEINSPECTOROPEN:TRUE
BEGIN:VEVENT
CLASS:PUBLIC
UID:2026-05-03HU566regcountry@www.thereisadayforthat.com
CREATED:20260421T64650Z
DESCRIPTION:Find out the dates, history and traditions of Mother’s Day\n\nFirst Sunday in May\n\nInformation provided by www.thereisadayforthat.com
URL:http://www.thereisadayforthat.com/holidays/hungary/mothers-day
DTSTART;VALUE=DATE:20260503
DTEND;VALUE=DATE:20260504
DTSTAMP:20260503T000000Z
LOCATION:Hungary
PRIORITY:5
SEQUENCE:0
SUMMARY;LANGUAGE=en-us:Mother's Day
TRANSP:OPAQUE
X-MICROSOFT-CDO-BUSYSTATUS:BUSY
X-MICROSOFT-CDO-IMPORTANCE:1
X-MICROSOFT-DISALLOW-COUNTER:FALSE
X-MS-OLK-ALLOWEXTERNCHECK:TRUE
X-MS-OLK-AUTOFILLLOCATION:FALSE
X-MICROSOFT-CDO-ALLDAYEVENT:TRUE
X-MICROSOFT-MSNCALENDAR-ALLDAYEVENT:TRUE
X-MS-OLK-CONFTYPE:0
END:VEVENT
END:VCALENDAR
